BEGIN:VCALENDAR
VERSION:2.0
PRODID:-//ChamberMaster//Event Calendar 2.0//EN
METHOD:PUBLISH
X-PUBLISHED-TTL:P3D
REFRESH-INTERVAL:P3D
CALSCALE:GREGORIAN
BEGIN:VEVENT
DTSTART:20241009T220000Z
DTEND:20241010T000000Z
X-MICROSOFT-CDO-ALLDAYEVENT:FALSE
SUMMARY:YPN Inter-Chamber Networking Event 2024
DESCRIPTION:Join us for an Inter-chamber speed networking event! It's Wednesday\, October 9th at Warren's Ale House in Danada from 5:00-7:00 p.m. \n\n\n\nTickets are $30 and include a drink ticket and heavy appetizers. This is a great chance to get to know young professionals from other organizations including the Naperville Area Chamber of Commerce\, St. Charles Area Chamber of Commerce\, Main Street Organization of Realtors\, and the DuPage County Bar Association.\n\n\n\nRegistration closes Oct. 1.
X-ALT-DESC;FMTTYPE=text/html:<span style="font-size:16px\;"><span style="font-family:times new roman\;"><span style="color: rgb(36\, 36\, 36)\;">Join us for an Inter-chamber speed networking event! It&rsquo\;s Wednesday\, October 9th at Warren&rsquo\;s Ale House in Danada from 5:00-7:00 p.m.&nbsp\;</span><br style="color: rgb(36\, 36\, 36)\; font-family: &quot\;Segoe UI&quot\;\, &quot\;Segoe UI Web (West European)&quot\;\, &quot\;Segoe UI&quot\;\, -apple-system\, BlinkMacSystemFont\, Roboto\, &quot\;Helvetica Neue&quot\;\, sans-serif\; font-size: 14.6667px\;" />\n<br style="color: rgb(36\, 36\, 36)\; font-family: &quot\;Segoe UI&quot\;\, &quot\;Segoe UI Web (West European)&quot\;\, &quot\;Segoe UI&quot\;\, -apple-system\, BlinkMacSystemFont\, Roboto\, &quot\;Helvetica Neue&quot\;\, sans-serif\; font-size: 14.6667px\;" />\n<span style="color: rgb(36\, 36\, 36)\;">Tickets are $30 and include a drink ticket and heavy appetizers. This is a great chance to get to know young professionals from other organizations including the Naperville Area Chamber of Commerce\, St. Charles Area Chamber of Commerce\, Main Street Organization of Realtors\, and the DuPage County Bar Association.<br />\n<br />\nRegistration closes Oct. 1.&nbsp\;</span></span></span>
LOCATION:Warrens Ale House 51 Town Square\, Wheaton\, IL 60189
UID:e.864.27583
SEQUENCE:3
DTSTAMP:20260421T024549Z
URL:https://business.wheatonchamber.com/events/details/ypn-inter-chamber-networking-event-2024-10-09-2024-27583
END:VEVENT

END:VCALENDAR
