BEGIN:VCALENDAR
VERSION:2.0
PRODID:-//ChamberMaster//Event Calendar 2.0//EN
METHOD:PUBLISH
X-PUBLISHED-TTL:P3D
REFRESH-INTERVAL:P3D
CALSCALE:GREGORIAN
BEGIN:VEVENT
DTSTART:20231207T223000Z
DTEND:20231208T000000Z
X-MICROSOFT-CDO-ALLDAYEVENT:FALSE
SUMMARY:Young Professionals Network (YPN) Holiday Celebration
DESCRIPTION:Come join the Young Professionals for a Holiday Celebration.
X-ALT-DESC;FMTTYPE=text/html:<span style="font-size:16px\;"><span style="font-family:times new roman\;">Come join the Young Professionals for a Holiday Celebration.</span></span>
LOCATION:Arrowhead Restaurant and Bar 26W151 Butterfield Road Wheaton\, IL 60189
UID:e.864.24061
SEQUENCE:3
DTSTAMP:20260421T000444Z
URL:https://business.wheatonchamber.com/events/details/young-professionals-network-ypn-holiday-celebration-12-07-2023-24061
END:VEVENT

END:VCALENDAR
