BEGIN:VCALENDAR
VERSION:2.0
PRODID:-//ChamberMaster//Event Calendar 2.0//EN
METHOD:PUBLISH
X-PUBLISHED-TTL:P3D
REFRESH-INTERVAL:P3D
CALSCALE:GREGORIAN
BEGIN:VEVENT
DTSTART:20260805T130000Z
DTEND:20260805T140000Z
X-MICROSOFT-CDO-ALLDAYEVENT:FALSE
SUMMARY:Young Professionals Network- Ray Ives
DESCRIPTION:Please join the YPN committee at Transworld Business Advisors. \n\nWhen it comes to buying or selling a business\, having an agent with experience in your city and industry can make all the difference. At Transworld Business Advisors\, we understand the needs of both business owners and buyers (so we can help you advocate for the best terms).\n\n\n\n\n\nJoin the Wheaton Chamber of Commerce's Young Professionals Network for their monthly coffee meetup. Connect with fellow dynamic young professionals within the Chamber\, sharing ideas\, resources\, and building valuable connections for your businesses and careers. Attendance is free\, and you're welcome to bring a guest interested in Wheaton Chamber membership. Kindly RSVP to ensure an ample supply of coffee.\n\n\n\nRenata Mendez of Rehab Chiro and Cassandra Minnifield of Sefton Kelly Law Family Law are co- chairs of the Young Professionals Network.
X-ALT-DESC;FMTTYPE=text/html:<span style="box-sizing: border-box\; font-family: Montserrat\, sans-serif\; font-size: 16px\;"><span style="box-sizing: border-box\; font-family: &quot\;times new roman&quot\;\;"><span style="box-sizing: border-box\; color: rgb(55\, 65\, 81)\; white-space-collapse: preserve\;">Please join the YPN committee at Transworld Business Advisors. </span></span></span><br />\n<span style="font-family:times new roman\;"><span style="color: rgb(0\, 0\, 0)\; font-size: 16px\; white-space-collapse: preserve-breaks\;">When it comes to buying or selling a business\, having an agent with experience in your city and industry can make all the difference. At Transworld Business Advisors\, we understand the needs of both business owners and buyers (so we can help you advocate for the best terms).</span></span><br />\n<br />\n<br />\n<span style="box-sizing: border-box\; font-family: Montserrat\, sans-serif\; font-size: 16px\;"><span style="box-sizing: border-box\; font-family: &quot\;times new roman&quot\;\;"><span style="box-sizing: border-box\; color: rgb(55\, 65\, 81)\; white-space-collapse: preserve\;">Join the Wheaton Chamber of Commerce&#39\;s Young Professionals Network for their monthly coffee meetup. Connect with fellow dynamic young professionals within the Chamber\, sharing ideas\, resources\, and building valuable connections for your businesses and careers. Attendance is free\, and you&#39\;re welcome to bring a guest interested in Wheaton Chamber membership. <u style="box-sizing: border-box\;"><span style="box-sizing: border-box\; font-weight: bolder\;">Kindly RSVP to ensure an ample supply of coffee.</span></u></span></span></span><br style="box-sizing: border-box\; font-family: Montserrat\, sans-serif\; font-size: 16px\;" />\n<br style="box-sizing: border-box\; font-family: Montserrat\, sans-serif\; font-size: 16px\;" />\n<span style="box-sizing: border-box\; font-family: Montserrat\, sans-serif\; font-size: 16px\;"><span style="box-sizing: border-box\; font-family: &quot\;times new roman&quot\;\;"><em style="box-sizing: border-box\;"><span style="box-sizing: border-box\; font-weight: bolder\;">Renata Mendez&nbsp\;</span>of&nbsp\;<span style="box-sizing: border-box\; font-weight: bolder\;">Rehab Chiro&nbsp\;</span>and&nbsp\;<span style="box-sizing: border-box\; font-weight: bolder\;">Cassandra Minnifield&nbsp\;</span>of&nbsp\;<span style="box-sizing: border-box\; font-weight: bolder\;">Sefton Kelly Law Family Law</span><span style="box-sizing: border-box\; font-weight: bolder\;">&nbsp\;</span>are&nbsp\;co- chairs of the Young Professionals Network.</em></span></span>
LOCATION:Hosted by TransWorld Business Advisors- 130 W. Liberty Suite 200 Wheaton\, IL\, 60187
UID:e.864.28127
SEQUENCE:3
DTSTAMP:20260422T071233Z
URL:https://business.wheatonchamber.com/events/details/young-professionals-network-ray-ives-28127
END:VEVENT

END:VCALENDAR
