BEGIN:VCALENDAR
VERSION:2.0
PRODID:-//ChamberMaster//Event Calendar 2.0//EN
METHOD:PUBLISH
X-PUBLISHED-TTL:P3D
REFRESH-INTERVAL:P3D
CALSCALE:GREGORIAN
BEGIN:VEVENT
DTSTART:20230319T143000Z
DTEND:20230319T160000Z
X-MICROSOFT-CDO-ALLDAYEVENT:FALSE
SUMMARY:St. Paul Lutheran Church
DESCRIPTION:The Wheaton College Gospel Choir will be singing at St. Paul Lutheran Church\, this Sunday\, March 19th at 9:30AM with a free brunch reception to follow. All are welcome!
X-ALT-DESC;FMTTYPE=text/html:<span style="font-size:22px\;"><span style="font-family:times new roman\;">The Wheaton College Gospel Choir will be singing at St. Paul Lutheran Church\, this Sunday\, March 19th at 9:30AM with a free brunch reception to follow. All are&nbsp\;welcome!&nbsp\;&nbsp\;</span></span>
LOCATION:St. Paul Lutheran Church 515 S. Wheaton Ave. Wheaton IL 60187
UID:e.864.24050
SEQUENCE:3
DTSTAMP:20260419T124624Z
URL:https://business.wheatonchamber.com/events/details/st-paul-lutheran-church-03-19-2023-24050
END:VEVENT

END:VCALENDAR
