BEGIN:VCALENDAR
VERSION:2.0
PRODID:-//ChamberMaster//Event Calendar 2.0//EN
METHOD:PUBLISH
X-PUBLISHED-TTL:P3D
REFRESH-INTERVAL:P3D
CALSCALE:GREGORIAN
BEGIN:VEVENT
DTSTART:20260511T210000Z
DTEND:20260511T230000Z
X-MICROSOFT-CDO-ALLDAYEVENT:FALSE
SUMMARY:Ribbon Cutting: SCOUT Veterinary Care
DESCRIPTION:We're excited to announce the Grand Opening and Ribbon Cutting of SCOUT Veterinary Urgent Care!\n\n\n\nIn partnership with the Wheaton Chamber of Commerce and our friends\, we invite you to celebrate their new business. Meet their team\, enjoy refreshments\, and tour their building while having some K9 and feline companions there! \n\n\n\nRibbon cutting takes place at 5:00 PM!
X-ALT-DESC;FMTTYPE=text/html:We&rsquo\;re excited to announce the Grand Opening and Ribbon Cutting of SCOUT Veterinary Urgent Care!<br />\n<br />\nIn partnership with the Wheaton Chamber of Commerce and our friends\, we invite you to celebrate their new business. Meet their team\, enjoy refreshments\, and tour their building while having some K9 and feline companions there!&nbsp\;<br />\n<br />\n<strong>Ribbon cutting takes place at 5:00 PM!</strong>
LOCATION:Address to come!
UID:e.864.28259
SEQUENCE:3
DTSTAMP:20260423T172650Z
URL:https://business.wheatonchamber.com/events/details/ribbon-cutting-scout-veterinary-care-28259
END:VEVENT

END:VCALENDAR
