BEGIN:VCALENDAR
VERSION:2.0
PRODID:-//ChamberMaster//Event Calendar 2.0//EN
METHOD:PUBLISH
X-PUBLISHED-TTL:P3D
REFRESH-INTERVAL:P3D
CALSCALE:GREGORIAN
BEGIN:VEVENT
DTSTART:20070420T150000Z
DTEND:20070420T150000Z
X-MICROSOFT-CDO-ALLDAYEVENT:FALSE
SUMMARY:Ribbon Cutting for WineStyles
DESCRIPTION:
X-ALT-DESC;FMTTYPE=text/html:
LOCATION:
UID:e.864.356
SEQUENCE:3
DTSTAMP:20260421T205958Z
URL:https://business.wheatonchamber.com/events/details/ribbon-cutting-for-winestyles-04-20-2007-356
END:VEVENT

END:VCALENDAR
