BEGIN:VCALENDAR
VERSION:2.0
PRODID:-//ChamberMaster//Event Calendar 2.0//EN
METHOD:PUBLISH
X-PUBLISHED-TTL:P3D
REFRESH-INTERVAL:P3D
CALSCALE:GREGORIAN
BEGIN:VEVENT
DTSTART:20160728T220000Z
DTEND:20160728T230000Z
X-MICROSOFT-CDO-ALLDAYEVENT:FALSE
SUMMARY:Ribbon Cutting for Margo McCollister
DESCRIPTION:Welcome to the Wheaton Chamber of Commerce\, Margo A. McCollister!\n\nMargo's new practice was built with a focus on deeply caring about helping people reach their fullest potential.
X-ALT-DESC;FMTTYPE=text/html:Welcome to the Wheaton Chamber of Commerce\, Margo A. McCollister!<br />\nMargo&#39\;s new practice was built with a focus on deeply caring about helping people reach their fullest potential.
LOCATION:111 W. Wesley St. Suite 2 Downtown Wheaton
UID:e.864.8111
SEQUENCE:3
DTSTAMP:20260420T113843Z
URL:https://business.wheatonchamber.com/events/details/ribbon-cutting-for-margo-mccollister-07-28-2016-8111
END:VEVENT

END:VCALENDAR
