BEGIN:VCALENDAR
VERSION:2.0
PRODID:-//ChamberMaster//Event Calendar 2.0//EN
METHOD:PUBLISH
X-PUBLISHED-TTL:P3D
REFRESH-INTERVAL:P3D
CALSCALE:GREGORIAN
BEGIN:VEVENT
DTSTART:20071206T153000Z
DTEND:20071206T163000Z
X-MICROSOFT-CDO-ALLDAYEVENT:FALSE
SUMMARY:Ribbon Cutting at Egg Harbor Cafe
DESCRIPTION:Join the Wheaton Chamber of Commerce to celebrate the opening of a new business in Wheaton.  The event begins at 9:30 a.m. and goes until about 10:30 a.m.  This event is open to the public and everyone is welcome to attend.
X-ALT-DESC;FMTTYPE=text/html:Join the Wheaton Chamber of Commerce to celebrate the opening of a new business in Wheaton.  The event begins at 9:30 a.m. and goes until about 10:30 a.m.  This event is open to the public and everyone is welcome to attend.
LOCATION:
UID:e.864.459
SEQUENCE:3
DTSTAMP:20260421T100643Z
URL:https://business.wheatonchamber.com/events/details/ribbon-cutting-at-egg-harbor-cafe-12-06-2007-459
END:VEVENT

END:VCALENDAR
