BEGIN:VCALENDAR
VERSION:2.0
PRODID:-//ChamberMaster//Event Calendar 2.0//EN
METHOD:PUBLISH
X-PUBLISHED-TTL:P3D
REFRESH-INTERVAL:P3D
CALSCALE:GREGORIAN
BEGIN:VEVENT
DTSTART:20070411T220000Z
DTEND:20070412T000000Z
X-MICROSOFT-CDO-ALLDAYEVENT:FALSE
SUMMARY:Professional Development Panel Presentation: Marketing / PR / Advertising
DESCRIPTION:The Professional Development committee is proud to host a 3-part panel series at IIT Rice Lake Campus. Each panel will present a different area of business for the business owner. The cost for this event is $10 for members and $15 for non-members. The first panel presentation will cover Marketing / Advertising / PR. Specialists in each field will give insight to these topics and will entertain questions at the end of the event.
X-ALT-DESC;FMTTYPE=text/html:The Professional Development committee is proud to host a 3-part panel series at IIT Rice Lake Campus. Each panel will present a different area of business for the business owner. The cost for this event is $10 for members and $15 for non-members. The first panel presentation will cover Marketing / Advertising / PR. Specialists in each field will give insight to these topics and will entertain questions at the end of the event.\n\n\n
LOCATION:
UID:e.864.351
SEQUENCE:3
DTSTAMP:20260421T223123Z
URL:https://business.wheatonchamber.com/events/details/professional-development-panel-presentation-marketing-pr-advertising-04-11-2007-351
END:VEVENT

END:VCALENDAR
