BEGIN:VCALENDAR
VERSION:2.0
PRODID:-//ChamberMaster//Event Calendar 2.0//EN
METHOD:PUBLISH
X-PUBLISHED-TTL:P3D
REFRESH-INTERVAL:P3D
CALSCALE:GREGORIAN
BEGIN:VEVENT
DTSTART:20260811T130000Z
DTEND:20260811T143000Z
X-MICROSOFT-CDO-ALLDAYEVENT:FALSE
SUMMARY:Make the Most of Your Membership
DESCRIPTION:Join us for a warm welcome to the Wheaton Chamber of Commerce! Enjoy coffee and a brief presentation from the Chamber team about membership benefits\, upcoming events\, and how to get involved.\n\n\n\nWe encourage ALL new members to attend - but if you want to learn more about your membership or chamber master\, please come as well! \n\n \n\nYou'll also hear from our Committee Chairs and our Board of Directors who will share tips on getting connected and making the most of your membership.
X-ALT-DESC;FMTTYPE=text/html:<p data-end="334" data-start="143" style="box-sizing: border-box\; margin: 0px 0px 1rem\; font-family: Montserrat\, sans-serif\; font-size: 16px\;"><span style="box-sizing: border-box\; font-size: 18px\;"><span style="box-sizing: border-box\; font-family: &quot\;times new roman&quot\;\;">Join us for a warm welcome to the Wheaton Chamber of Commerce! Enjoy coffee and a brief presentation from the Chamber team about membership benefits\, upcoming events\, and how to get involved.<br style="box-sizing: border-box\;" />\n<br style="box-sizing: border-box\;" />\nWe encourage ALL new members to attend - but if you want to learn more about your membership or chamber master\, please come as well!&nbsp\;</span></span><br style="box-sizing: border-box\;" />\n&nbsp\;</p>\n\n<p data-end="494" data-start="336" style="box-sizing: border-box\; margin: 0px 0px 1rem\; font-family: Montserrat\, sans-serif\; font-size: 16px\;"><span style="box-sizing: border-box\; font-size: 18px\;"><span style="box-sizing: border-box\; font-family: &quot\;times new roman&quot\;\;">You&#39\;ll also hear from our Committee Chairs and our Board of Directors who will share tips on getting connected and making the most of your membership.&nbsp\;</span></span></p>\n
LOCATION:Wheaton Public Library 225 N Cross St Wheaton
UID:e.864.28244
SEQUENCE:3
DTSTAMP:20260421T094909Z
URL:https://business.wheatonchamber.com/events/details/make-the-most-of-your-membership-28244
END:VEVENT

END:VCALENDAR
