BEGIN:VCALENDAR
VERSION:2.0
PRODID:-//ChamberMaster//Event Calendar 2.0//EN
METHOD:PUBLISH
X-PUBLISHED-TTL:P3D
REFRESH-INTERVAL:P3D
CALSCALE:GREGORIAN
BEGIN:VEVENT
DTSTART:20050915T163000Z
DTEND:20050915T180000Z
X-MICROSOFT-CDO-ALLDAYEVENT:FALSE
SUMMARY:"Luncheon in the Park" - Autumn Fest 05
DESCRIPTION:
X-ALT-DESC;FMTTYPE=text/html:
LOCATION:For any events please register on-line at www.ewheaton.com or call 630-668-6464 for reservations. A 24 hr cancellation notice is required for all reservations to avoid a charge.
UID:e.864.129
SEQUENCE:3
DTSTAMP:20260422T221653Z
URL:https://business.wheatonchamber.com/events/details/luncheon-in-the-park-autumn-fest-05-09-15-2005-129
END:VEVENT

END:VCALENDAR
