BEGIN:VCALENDAR
VERSION:2.0
PRODID:-//ChamberMaster//Event Calendar 2.0//EN
METHOD:PUBLISH
X-PUBLISHED-TTL:P3D
REFRESH-INTERVAL:P3D
CALSCALE:GREGORIAN
BEGIN:VEVENT
DTSTART:20241017T163000Z
DTEND:20241017T180000Z
X-MICROSOFT-CDO-ALLDAYEVENT:FALSE
SUMMARY:Luncheon for Wheaton Chamber Members and Guests *RESTORED SERIES - DO NOT DELETE*
DESCRIPTION:
X-ALT-DESC;FMTTYPE=text/html:
LOCATION:
UID:e.864.23616
SEQUENCE:3
DTSTAMP:20260423T004251Z
URL:https://business.wheatonchamber.com/events/details/luncheon-for-wheaton-chamber-members-and-guests-restored-series-do-not-delete-10-17-2024-23616
END:VEVENT

END:VCALENDAR
