BEGIN:VCALENDAR
VERSION:2.0
PRODID:-//ChamberMaster//Event Calendar 2.0//EN
METHOD:PUBLISH
X-PUBLISHED-TTL:P3D
REFRESH-INTERVAL:P3D
CALSCALE:GREGORIAN
BEGIN:VEVENT
DTSTART:20230328T170000Z
DTEND:20230328T180000Z
X-MICROSOFT-CDO-ALLDAYEVENT:FALSE
SUMMARY:Ignite University
DESCRIPTION:Join our "faculty" of business professionals to learn more about how to launch a business\, run a business and succeed in business. Whether you're an entrepreneur or an employee\, dreaming of starting a business or looking for ways to grow\, "Ignite University" offers a year-long program of learning. Register for one or all of our academic year!\n\n\n\nThis program is a partnership between the Wheaton Public Library and the Wheaton Chamber of Commerce.
X-ALT-DESC;FMTTYPE=text/html:<span style="font-family:times new roman\;"><span style="font-size:18px\;">Join our &quot\;faculty&quot\; of business professionals to learn more about how to launch a business\, run a business and succeed in business. Whether you&#39\;re an entrepreneur or an employee\, dreaming of starting a business or looking for ways to grow\, &quot\;Ignite University&quot\; offers a year-long program of learning. Register for one or all of our academic year!<br />\n<br />\nThis program is a partnership between the Wheaton Public Library and the Wheaton Chamber of Commerce.</span></span>
LOCATION:Via Zoom
UID:e.864.23752
SEQUENCE:3
DTSTAMP:20260421T094804Z
URL:https://business.wheatonchamber.com/events/details/ignite-university-03-28-2023-23752
END:VEVENT

END:VCALENDAR
