BEGIN:VCALENDAR
VERSION:2.0
PRODID:-//ChamberMaster//Event Calendar 2.0//EN
METHOD:PUBLISH
X-PUBLISHED-TTL:P3D
REFRESH-INTERVAL:P3D
CALSCALE:GREGORIAN
BEGIN:VEVENT
DTSTART:20250205T180000Z
DTEND:20250205T190000Z
X-MICROSOFT-CDO-ALLDAYEVENT:FALSE
SUMMARY:Ignite University
DESCRIPTION:February: Fitness is Smart Business - Parks Plus Fitness \n\n-------\n\nIgnite is our innovative approach to providing resources and programs for business\, career\, and lifelong learning.\n\nIn partnership with the Wheaton Public Library\, the goal is to help our community discover their spark and ignite their future - whether starting or building a business\, changing or growing a career\, or kindling interest through continuing education.
X-ALT-DESC;FMTTYPE=text/html:<span style="font-family:times new roman\;"><span style="font-size:16px\;"><strong><span data-olk-copy-source="MessageBody" style="color: black\;">February: Fitness is Smart Business - Parks Plus Fitness&nbsp\;</span></strong></span><br />\n<span style="font-size:18px\;">-------<br />\nIgnite is our innovative approach to providing resources and programs for business\, career\, and lifelong learning.<br />\nIn partnership with the Wheaton Public Library\, the goal is to help our community discover their spark and ignite their future - whether starting or building a business\, changing or growing a career\, or kindling interest through continuing education.</span></span>
LOCATION:Wheaton Public Library 225 N. Cross Street Wheaton\, IL 60187
UID:e.864.26193
SEQUENCE:3
DTSTAMP:20260421T083251Z
URL:https://business.wheatonchamber.com/events/details/ignite-university-02-05-2025-26193
END:VEVENT

END:VCALENDAR
