BEGIN:VCALENDAR
VERSION:2.0
PRODID:-//ChamberMaster//Event Calendar 2.0//EN
METHOD:PUBLISH
X-PUBLISHED-TTL:P3D
REFRESH-INTERVAL:P3D
CALSCALE:GREGORIAN
BEGIN:VEVENT
DTSTART:20240531T150000Z
DTEND:20240601T040000Z
X-MICROSOFT-CDO-ALLDAYEVENT:FALSE
SUMMARY:Cream of Wheaton 2024
DESCRIPTION:Volunteer Opportunities\n\n\n	Nonprofit crews can earn tips for your cause as beer servers\, or have an expo display when you volunteer in the ticket sales booth.  E-mail Mike Tennerelli at mtenerelli11@gmail.com for more information.\n	Volunteer Sign Up\n\n\nSponsorship Forms\n\n\n	Business Expo Booth \n	Sponsorship Opportunites
X-ALT-DESC;FMTTYPE=text/html:<p _mce_style="text-align: left\; margin-top: 0px\; margin-bottom: 0px\; color: #001a81\;" align="left" style="box-sizing: border-box\; margin: 0px\; font-variant-numeric: normal\; font-variant-east-asian: normal\; font-variant-alternates: normal\; font-variant-position: normal\; font-family: Arial\, Helvetica\, sans-serif\; font-size: 18.6667px\; line-height: normal\; widows: 1\;"><span style="box-sizing: border-box\; font-weight: bolder\;"><span style="box-sizing: border-box\; font-family: &quot\;times new roman&quot\;\;"><span style="box-sizing: border-box\; font-size: 18px\;"><span style="box-sizing: border-box\; font-weight: normal\;">Volunteer Opportunities</span></span></span></span></p>\n\n<ul style="box-sizing: border-box\; margin-top: 0px\; margin-bottom: 1rem\; font-family: Montserrat\, sans-serif\; font-size: 16px\;">\n	<li _mce_style="text-align: left\; margin-top: 0px\; margin-bottom: 0px\; color: #001a81\;" align="left" style="box-sizing: border-box\; margin: 0px\; font-family: Arial\, Helvetica\, sans-serif\; font-size: 18.6667px\; font-variant-numeric: normal\; font-variant-east-asian: normal\; font-variant-alternates: normal\; font-variant-position: normal\; line-height: normal\; widows: 1\; text-align: left\;"><span style="box-sizing: border-box\; font-size: 18px\;"><span style="box-sizing: border-box\; font-family: &quot\;times new roman&quot\;\;"><span _mce_style="font-size: 16pt\; color: #ff6600\;" color:="" font-size:="" new="" style="box-sizing: border-box\;" times="" widows:=""><span _mce_style="color: #008000\;" style="box-sizing: border-box\;"><span style="box-sizing: border-box\; color: rgb(0\, 0\, 0)\;">Nonprofit crews can&nbsp\;earn tips for your cause as beer servers\, or have an expo display when you volunteer in the ticket sales booth.&nbsp\; E-mail&nbsp\;<span style="box-sizing: border-box\; font-weight: bolder\;">Mike Tennerelli</span>&nbsp\;at&nbsp\;</span></span></span><a font-size:="" href="mailto:mtenerelli11@gmail.com" new="" style="box-sizing: border-box\; background-color: transparent\; color: rgb(0\, 26\, 129)\; text-decoration-line: none\; overflow-wrap: break-word\;" times="" widows:=""><span style="box-sizing: border-box\; color: rgb(0\, 0\, 255)\;">mtenerelli11@gmail.com</span></a><span color:="" font-size:="" new="" style="box-sizing: border-box\;" times="" widows:=""><span _mce_style="font-size: 16pt\; color: #ff6600\;" style="box-sizing: border-box\;"><span _mce_style="color: #008000\;" style="box-sizing: border-box\;"><span style="box-sizing: border-box\; color: rgb(0\, 0\, 0)\;">&nbsp\;</span><span style="box-sizing: border-box\; color: rgb(0\, 0\, 0)\;">for more information.</span></span></span></span></span></span></li>\n	<li _mce_style="text-align: left\; margin-top: 0px\; margin-bottom: 0px\; color: #001a81\;" align="left" style="box-sizing: border-box\; margin: 0px\; font-family: Arial\, Helvetica\, sans-serif\; font-size: 18.6667px\; font-variant-numeric: normal\; font-variant-east-asian: normal\; font-variant-alternates: normal\; font-variant-position: normal\; line-height: normal\; widows: 1\; text-align: left\;"><span style="box-sizing: border-box\; font-family: &quot\;times new roman&quot\;\;"><span style="box-sizing: border-box\; font-size: 18px\;"><a href="http://www.signupgenius.com/go/10C0E4EA4AB2FA4FCCE9-47600533-volunteer#/" style="box-sizing: border-box\; background-color: transparent\; color: rgb(234\, 87\, 87)\; text-decoration-line: none\; overflow-wrap: break-word\;"><span style="box-sizing: border-box\; color: rgb(0\, 0\, 255)\;">Volunteer Sign Up</span></a></span></span></li>\n</ul>\n\n<p _mce_style="text-align: left\; margin-top: 0px\; margin-bottom: 0px\; color: #001a81\;" align="left" style="box-sizing: border-box\; margin: 0px\; font-variant-numeric: normal\; font-variant-east-asian: normal\; font-variant-alternates: normal\; font-variant-position: normal\; font-family: Arial\, Helvetica\, sans-serif\; font-size: 18.6667px\; line-height: normal\; widows: 1\;"><span style="box-sizing: border-box\; font-family: &quot\;times new roman&quot\;\;"><span style="box-sizing: border-box\; font-size: 18px\;">Sponsorship Forms</span></span></p>\n\n<ul style="box-sizing: border-box\; margin-top: 0px\; margin-bottom: 1rem\; font-family: Montserrat\, sans-serif\; font-size: 16px\;">\n	<li _mce_style="text-align: left\; margin-top: 0px\; margin-bottom: 0px\; color: #001a81\;" align="left" style="box-sizing: border-box\; margin: 0px\; font-family: Arial\, Helvetica\, sans-serif\; font-size: 18.6667px\; font-variant-numeric: normal\; font-variant-east-asian: normal\; font-variant-alternates: normal\; font-variant-position: normal\; line-height: normal\; widows: 1\; text-align: left\;"><span style="box-sizing: border-box\; font-family: &quot\;times new roman&quot\;\;"><span style="box-sizing: border-box\; font-size: 18px\;"><span _mce_style="font-size: 16pt\; color: #ff6600\;" style="box-sizing: border-box\;"><span _mce_style="color: #008000\;" style="box-sizing: border-box\;"><a href="http://chambermaster.blob.core.windows.net/userfiles/UserFiles/chambers/864/File/EditableCreamofWheaton2024-BusinessExpo003.pdf" style="box-sizing: border-box\; background-color: transparent\; color: rgb(234\, 87\, 87)\; text-decoration-line: none\; overflow-wrap: break-word\;"><span style="box-sizing: border-box\; color: rgb(0\, 0\, 255)\;">Business Expo Booth</span></a><span style="box-sizing: border-box\; color: rgb(0\, 0\, 255)\;">&nbsp\;</span></span></span></span></span></li>\n	<li _mce_style="text-align: left\; margin-top: 0px\; margin-bottom: 0px\; color: #001a81\;" align="left" style="box-sizing: border-box\; margin: 0px\; font-family: Arial\, Helvetica\, sans-serif\; font-size: 18.6667px\; font-variant-numeric: normal\; font-variant-east-asian: normal\; font-variant-alternates: normal\; font-variant-position: normal\; line-height: normal\; widows: 1\; text-align: left\;"><span style="box-sizing: border-box\; font-family: &quot\;times new roman&quot\;\;"><span style="box-sizing: border-box\; font-size: 18px\;"><a href="http://chambermaster.blob.core.windows.net/userfiles/UserFiles/chambers/864/File/EditableCreamofWheatonSponsorshipOpportunities2024.pdf" style="box-sizing: border-box\; background-color: transparent\; color: rgb(234\, 87\, 87)\; text-decoration-line: none\; overflow-wrap: break-word\;"><span style="box-sizing: border-box\; color: rgb(0\, 0\, 255)\;">Sponsorship Opportunites</span></a></span></span></li>\n</ul>\n\n<p>&nbsp\;</p>\n
LOCATION:Memorial Park\, 208 W. Union Ave.\, Wheaton\, IL 60187
UID:e.864.26976
SEQUENCE:3
DTSTAMP:20260421T085016Z
URL:https://business.wheatonchamber.com/events/details/cream-of-wheaton-2024-05-31-2024-26976
END:VEVENT

END:VCALENDAR
