BEGIN:VCALENDAR
VERSION:2.0
PRODID:-//ChamberMaster//Event Calendar 2.0//EN
METHOD:PUBLISH
X-PUBLISHED-TTL:P3D
REFRESH-INTERVAL:P3D
CALSCALE:GREGORIAN
BEGIN:VEVENT
DTSTART:20240530T150000Z
DTEND:20240531T030000Z
X-MICROSOFT-CDO-ALLDAYEVENT:FALSE
SUMMARY:Cream of Wheaton 2024
DESCRIPTION:Volunteer Opportunities\n\n\n	Nonprofit crews can earn tips for your cause as beer servers\, or have an expo display when you volunteer in the ticket sales booth.  E-mail Mike Tennerelli at mtenerelli11@gmail.com for more information.\n	Volunteer Sign Up\n\n\nSponsorship Forms\n\n\n	Business Expo Booth \n	Sponsorship Opportunities
X-ALT-DESC;FMTTYPE=text/html:<p _mce_style="text-align: left\; margin-top: 0px\; margin-bottom: 0px\; color: #001a81\;" align="left" style="margin-top: 0px\; margin-bottom: 0px\; font-family: Arial\, Helvetica\, sans-serif\; font-size: 18.6667px\; font-variant: normal\; letter-spacing: normal\; line-height: normal\; text-indent: 0px\; text-transform: none\; white-space: normal\; widows: 1\; word-spacing: 0px\; -webkit-text-stroke-width: 0px\; text-align: left\;"><strong><span style="font-family:times new roman\;"><span style="font-size:18px\;"><span style="font-style: normal\; font-weight: normal\;"><span _mce_style="font-size: 16pt\; color: #ff6600\;"><span _mce_style="color: #008000\;">Volunteer Opportunities</span></span></span></span></span></strong></p>\n\n<ul>\n	<li _mce_style="text-align: left\; margin-top: 0px\; margin-bottom: 0px\; color: #001a81\;" align="left" style="margin-top: 0px\; margin-bottom: 0px\; font-family: Arial\, Helvetica\, sans-serif\; font-size: 18.6667px\; font-variant: normal\; letter-spacing: normal\; line-height: normal\; text-indent: 0px\; text-transform: none\; white-space: normal\; widows: 1\; word-spacing: 0px\; -webkit-text-stroke-width: 0px\; text-align: left\;"><span style="font-size:18px\;"><span style="font-family:times new roman\;"><span _mce_style="font-size: 16pt\; color: #ff6600\;" color:="" font-size:="" new="" times="" widows:=""><span _mce_style="color: #008000\;"><span style="color: rgb(0\, 0\, 0)\;">Nonprofit crews can&nbsp\;earn tips for your cause as beer servers\, or have an expo display when you volunteer in the ticket sales booth.&nbsp\; E-mail&nbsp\;<strong>Mike Tennerelli</strong>&nbsp\;at&nbsp\;</span></span></span><a font-size:="" href="mailto:mtenerelli11@gmail.com" new="" style="color: rgb(0\, 26\, 129)\; font-family: " times="" widows:=""><span style="color:#0000FF\;">mtenerelli11@gmail.com</span></a><span color:="" font-size:="" new="" times="" widows:=""><span _mce_style="font-size: 16pt\; color: #ff6600\;"><span _mce_style="color: #008000\;"><span style="color: rgb(0\, 0\, 0)\;">&nbsp\;</span><span style="color: rgb(0\, 0\, 0)\;">for more information.</span></span></span></span></span></span></li>\n	<li _mce_style="text-align: left\; margin-top: 0px\; margin-bottom: 0px\; color: #001a81\;" align="left" style="margin-top: 0px\; margin-bottom: 0px\; font-family: Arial\, Helvetica\, sans-serif\; font-size: 18.6667px\; font-variant: normal\; letter-spacing: normal\; line-height: normal\; text-indent: 0px\; text-transform: none\; white-space: normal\; widows: 1\; word-spacing: 0px\; -webkit-text-stroke-width: 0px\; text-align: left\;"><span style="font-family:times new roman\;"><span style="font-size:18px\;"><a href="http://www.signupgenius.com/go/10C0E4EA4AB2FA4FCCE9-47600533-volunteer#/"><span style="color:#0000FF\;">Volunteer Sign Up</span></a></span></span></li>\n</ul>\n\n<p _mce_style="text-align: left\; margin-top: 0px\; margin-bottom: 0px\; color: #001a81\;" align="left" style="margin-top: 0px\; margin-bottom: 0px\; font-family: Arial\, Helvetica\, sans-serif\; font-size: 18.6667px\; font-variant: normal\; letter-spacing: normal\; line-height: normal\; text-indent: 0px\; text-transform: none\; white-space: normal\; widows: 1\; word-spacing: 0px\; -webkit-text-stroke-width: 0px\; text-align: left\;"><span style="font-family:times new roman\;"><span style="font-size:18px\;"><strong><span style="font-style: normal\; font-weight: normal\;"><span _mce_style="font-size: 16pt\; color: #ff6600\;"><span _mce_style="color: #008000\;">Sponsorship Forms</span></span></span></strong></span></span></p>\n\n<ul>\n	<li _mce_style="text-align: left\; margin-top: 0px\; margin-bottom: 0px\; color: #001a81\;" align="left" style="margin-top: 0px\; margin-bottom: 0px\; font-family: Arial\, Helvetica\, sans-serif\; font-size: 18.6667px\; font-variant: normal\; letter-spacing: normal\; line-height: normal\; text-indent: 0px\; text-transform: none\; white-space: normal\; widows: 1\; word-spacing: 0px\; -webkit-text-stroke-width: 0px\; text-align: left\;"><span style="font-family:times new roman\;"><span style="font-size:18px\;"><span _mce_style="font-size: 16pt\; color: #ff6600\;" style="font-style: normal\;"><span _mce_style="color: #008000\;"><a href="http://chambermaster.blob.core.windows.net/userfiles/UserFiles/chambers/864/File/EditableCreamofWheaton2024-BusinessExpo003.pdf"><span style="color:#0000FF\;">Business Expo Booth</span></a><span style="color:#0000FF\;">&nbsp\;</span></span></span></span></span></li>\n	<li _mce_style="text-align: left\; margin-top: 0px\; margin-bottom: 0px\; color: #001a81\;" align="left" style="margin-top: 0px\; margin-bottom: 0px\; font-family: Arial\, Helvetica\, sans-serif\; font-size: 18.6667px\; font-variant: normal\; letter-spacing: normal\; line-height: normal\; text-indent: 0px\; text-transform: none\; white-space: normal\; widows: 1\; word-spacing: 0px\; -webkit-text-stroke-width: 0px\; text-align: left\;"><span style="font-family:times new roman\;"><span style="font-size:18px\;"><a href="http://chambermaster.blob.core.windows.net/userfiles/UserFiles/chambers/864/File/EditableCreamofWheatonSponsorshipOpportunities2024.pdf"><span style="color:#0000FF\;">Sponsorship Opportunities</span></a></span></span></li>\n</ul>\n
LOCATION:Memorial Park\, 208 W. Union Ave.\, Wheaton\, IL 60187
UID:e.864.26975
SEQUENCE:3
DTSTAMP:20260421T083522Z
URL:https://business.wheatonchamber.com/events/details/cream-of-wheaton-2024-05-30-2024-26975
END:VEVENT

END:VCALENDAR
