BEGIN:VCALENDAR
VERSION:2.0
PRODID:-//ChamberMaster//Event Calendar 2.0//EN
METHOD:PUBLISH
X-PUBLISHED-TTL:P3D
REFRESH-INTERVAL:P3D
CALSCALE:GREGORIAN
BEGIN:VEVENT
DTSTART:20070510T213000Z
DTEND:20070510T233000Z
X-MICROSOFT-CDO-ALLDAYEVENT:FALSE
SUMMARY:Business Open House @ Fitness Together
DESCRIPTION:Fitness Together  Wheaton and Central DuPage Chiropractic and Rehabilitation will be hosting a business after hours on May 10th at the Fitness Together studio\, 340 W. Front Street. We'll have food and drinks\, tours\, prize drawings and socializing. Come celebrate the warm weather\, when it arrives! We hope to see you all there. To register or if you have any questions\, please call Mari Fasshauer at 588.8448 or Dr. Carlo Leon at 665.7266.
X-ALT-DESC;FMTTYPE=text/html:Fitness Together  Wheaton and Central DuPage Chiropractic and Rehabilitation will be hosting a business after hours on May 10th at the Fitness Together studio\, 340 W. Front Street. We'll have food and drinks\, tours\, prize drawings and socializing. Come celebrate the warm weather\, when it arrives! We hope to see you all there. To register or if you have any questions\, please call Mari Fasshauer at 588.8448 or Dr. Carlo Leon at 665.7266.\n\n
LOCATION:
UID:e.864.338
SEQUENCE:3
DTSTAMP:20260421T210111Z
URL:https://business.wheatonchamber.com/events/details/business-open-house-fitness-together-05-10-2007-338
END:VEVENT

END:VCALENDAR
