BEGIN:VCALENDAR
VERSION:2.0
PRODID:-//ChamberMaster//Event Calendar 2.0//EN
METHOD:PUBLISH
X-PUBLISHED-TTL:P3D
REFRESH-INTERVAL:P3D
CALSCALE:GREGORIAN
BEGIN:VEVENT
DTSTART:20250128T230000Z
DTEND:20250129T010000Z
X-MICROSOFT-CDO-ALLDAYEVENT:FALSE
SUMMARY:Business After Hours - Mr. Handyman!
DESCRIPTION:Host: Mr. Handyman \n\nWear your favorite plaid/flannel\, home improvement edition! \n\n\n\nCome join us for our monthly Business After Hours\, hosted by our committees and sponsored by our generous Wheaton Chamber members. Connect with fellow Chamber members\, build relationships and most importantly\, come to have some fun!
X-ALT-DESC;FMTTYPE=text/html:<span style="font-size:22px\;"><span style="font-family:times new roman\;"><strong style="font-family: &quot\;times new roman&quot\;\; font-size: 16px\;">&nbsp\;Host: Mr. Handyman&nbsp\;</strong><br />\n<em>Wear your favorite plaid/flannel\, home improvement edition!&nbsp\;</em><br />\n<br />\nCome join us for our monthly Business After Hours\, hosted by our committees and sponsored by our generous Wheaton Chamber members. Connect with fellow Chamber members\, build relationships and most importantly\, come to have some fun!</span></span>
LOCATION:Mr. Handyman 245 W Roosevelt Rd Bldg 6 Suite 39 West Chicago\, IL 60185
UID:e.864.26661
SEQUENCE:3
DTSTAMP:20260424T182511Z
URL:https://business.wheatonchamber.com/events/details/business-after-hours-mr-handyman-26661
END:VEVENT

END:VCALENDAR
