BEGIN:VCALENDAR
VERSION:2.0
PRODID:-//ChamberMaster//Event Calendar 2.0//EN
METHOD:PUBLISH
X-PUBLISHED-TTL:P3D
REFRESH-INTERVAL:P3D
CALSCALE:GREGORIAN
BEGIN:VEVENT
DTSTART:20071213T230000Z
DTEND:20071214T010000Z
X-MICROSOFT-CDO-ALLDAYEVENT:FALSE
SUMMARY:Business After Hours at Alberto's Restaurant at the Holiday Inn & Suites
DESCRIPTION:The Membership Development Committee encourages you to attend this informal evening.  It is a great way for non-members to get a feel for the membership.
X-ALT-DESC;FMTTYPE=text/html:The Membership Development Committee encourages you to attend this informal evening.  It is a great way for non-members to get a feel for the membership.
LOCATION:
UID:e.864.455
SEQUENCE:3
DTSTAMP:20260421T100909Z
URL:https://business.wheatonchamber.com/events/details/business-after-hours-at-alberto-s-restaurant-at-the-holiday-inn-suites-12-13-2007-455
END:VEVENT

END:VCALENDAR
