BEGIN:VCALENDAR
VERSION:2.0
PRODID:-//ChamberMaster//Event Calendar 2.0//EN
METHOD:PUBLISH
X-PUBLISHED-TTL:P3D
REFRESH-INTERVAL:P3D
CALSCALE:GREGORIAN
BEGIN:VEVENT
DTSTART:20270722T133000Z
DTEND:20270722T143000Z
X-MICROSOFT-CDO-ALLDAYEVENT:FALSE
SUMMARY:Board of Directors Monthly Meeting
DESCRIPTION:
X-ALT-DESC;FMTTYPE=text/html:
LOCATION:Wheaton Chamber of Commerce Conference Room 301 W. Roosevelt Rd.
UID:e.864.21389
SEQUENCE:3
DTSTAMP:20260421T083659Z
URL:https://business.wheatonchamber.com/events/details/board-of-directors-monthly-meeting-07-22-2027-21389
END:VEVENT

END:VCALENDAR
