BEGIN:VCALENDAR
VERSION:2.0
PRODID:-//ChamberMaster//Event Calendar 2.0//EN
METHOD:PUBLISH
X-PUBLISHED-TTL:P3D
REFRESH-INTERVAL:P3D
CALSCALE:GREGORIAN
BEGIN:VEVENT
DTSTART;VALUE=DATE:20040917
DTEND;VALUE=DATE:20040920
TRANSP:TRANSPARENT
X-MICROSOFT-CDO-ALLDAYEVENT:TRUE
SUMMARY:AUTUMN FEST 2004
DESCRIPTION:Autumn Fest is the Wheaton Chamber's largest event\, with approximately 12\,000 area residents attending each year. The event will include a variety of foods\, beverages\, bands\, carnival rides\, children's activities\, crafts\, exhibits\, and much\, much more. For more details on the event\, visit www.ewheaton.com.
X-ALT-DESC;FMTTYPE=text/html:Autumn Fest is the Wheaton Chamber's largest event\, with approximately 12\,000 area residents attending each year. The event will include a variety of foods\, beverages\, bands\, carnival rides\, children's activities\, crafts\, exhibits\, and much\, much more. For more details on the event\, visit www.ewheaton.com.
LOCATION:Hale & Karlskoga Sts.
UID:e.864.28
SEQUENCE:3
DTSTAMP:20260423T151416Z
URL:https://business.wheatonchamber.com/events/details/autumn-fest-2004-09-17-2004-28
END:VEVENT

END:VCALENDAR
