BEGIN:VCALENDAR
VERSION:2.0
PRODID:-//ChamberMaster//Event Calendar 2.0//EN
METHOD:PUBLISH
X-PUBLISHED-TTL:P3D
REFRESH-INTERVAL:P3D
CALSCALE:GREGORIAN
BEGIN:VEVENT
DTSTART:20070913T220000Z
DTEND:20070916T013000Z
X-MICROSOFT-CDO-ALLDAYEVENT:FALSE
SUMMARY:Autumn Fest '07 - Featuring a $500 Gas Card Raffle!
DESCRIPTION:Join us for the 35th Annual Autumn Fest\, September 13-16\, 2007 in Memorial Park (Hale & Karlskoga Streets) and the Carnival at Liberty & Main Streets. It's families\, fun and food all weekend!  Take a chance at winning a $500 gas card! You can purchase tickets at the Chamber office or on-line.
X-ALT-DESC;FMTTYPE=text/html:Join us for the 35th Annual Autumn Fest\, September 13-16\, 2007 in Memorial Park (Hale & Karlskoga Streets) and the Carnival at Liberty & Main Streets. It's families\, fun and food all weekend!  Take a chance at winning a $500 gas card! You can purchase tickets at the Chamber office or on-line. 
LOCATION:
UID:e.864.273
SEQUENCE:3
DTSTAMP:20260421T152959Z
URL:https://business.wheatonchamber.com/events/details/autumn-fest-07-featuring-a-500-gas-card-raffle-09-13-2007-273
END:VEVENT

END:VCALENDAR
