BEGIN:VCALENDAR
VERSION:2.0
PRODID:-//ChamberMaster//Event Calendar 2.0//EN
METHOD:PUBLISH
X-PUBLISHED-TTL:P3D
REFRESH-INTERVAL:P3D
CALSCALE:GREGORIAN
BEGIN:VEVENT
DTSTART:20230119T173000Z
DTEND:20230119T190000Z
X-MICROSOFT-CDO-ALLDAYEVENT:FALSE
SUMMARY:Andy Warhol is Coming to Town! January Wheaton Chamber Membership Luncheon
DESCRIPTION:Join us for our first Wheaton Chamber of Commerce luncheon of 2023\, welcoming Diana Martinez\, director of the McAninch Arts Center (MAC)\, and Justin Witte\, curator of the Cleve Carney Museum of Art\, who will share about the upcoming Andy Warhol Portfolios: A Life in Pop exhibit coming to the museum this spring. Justin will share about the impact of Warhol's art in the world\, and Diana will bring ideas for our businesses to celebrate this world-class exhibit right here at home.
X-ALT-DESC;FMTTYPE=text/html:<span style="font-size:18px\;"><span style="font-family:times new roman\;">Join us for our first Wheaton Chamber of Commerce luncheon of 2023\, welcoming <strong>Diana Martinez</strong>\, director of the McAninch Arts Center (MAC)\, and<strong> Justin Witte</strong>\, curator of the Cleve Carney Museum of Art\, who will share about the upcoming <strong>Andy Warhol Portfolios: A Life in Pop</strong> exhibit coming to the museum this spring. Justin will share about the impact of Warhol&#39\;s art in the world\, and Diana will bring ideas for our businesses to celebrate this world-class exhibit right here at home.</span></span>
LOCATION:DuPage Historical Museum 102 E. Wesley\, 2nd floor Wheaton\, IL
UID:e.864.23615
SEQUENCE:3
DTSTAMP:20260421T132212Z
URL:https://business.wheatonchamber.com/events/details/andy-warhol-is-coming-to-town-january-wheaton-chamber-membership-luncheon-01-19-2023-23615
END:VEVENT

END:VCALENDAR
